Workbook

Sheet Postacie
A1: Widoczne po filtrowaniu: | C1: =SUBTOTAL(103,A3:A623) -> 621 | D1: Postacie nauki, techniki, filozofii i humanistyki działające od XIV do XX wieku
A2: Nr | B2: Data urodzenia - data śmierci | C2: Stulecie | D2: Nazwisko i imię | E2: Dziedzina główna | F2: Poddziedzina | G2: Dziedziny dodatkowe | H2: Ocena znaczenia (5-25) | I2: Najważniejsze osiągnięcia
A3: 1 | B3: 1287?-1347 | C3: 14 | D3: Ockham, Wilhelm | E3: Filozofia | F3: logika | G3: Filozofia - metafizyka i ontologia; Filozofia - filozofia polityczna i społeczna | H3: =Oceny!H4 -> 24 | I3: Rozwinął nominalistyczną ontologię, teorię języka mentalnego i logikę terministyczną oraz sformułował wpływową zasadę oszczędności wyjaśnień, znaną jako brzytwa Ockhama. Jego pisma polityczne należą do najważniejszych późnośredniowiecznych analiz granic władzy papieskiej.
A4: 2 | B4: 1292?-1336 | C4: 14 | D4: Wallingford, Richard of | E4: Technika i inżynieria | F4: przyrządy pomiarowe i optyczne | G4: Astronomia - astronomia matematyczna | H4: =Oceny!H5 -> 12 | I4: Nie był twórcą filozofii mechanistycznej, ale jego złożony zegar astronomiczny tworzył materialne doświadczenie bardzo ważne dla późniejszej metaforyki: skomplikowany układ może wykonywać regularne ruchy dzięki własnej konstrukcji, bez ciągłego kierowania nim z zewnątrz. Zaprojektowany dla opactwa St Albans mechanizm przedstawiał ruchy Słońca i Księżyca, fazy Księżyca, zaćmienia i pływy.
A5: 3 | B5: 1300?-1349 | C5: 14 | D5: Bradwardine, Thomas | E5: Matematyka | F5: matematyka stosowana i obliczeniowa | H5: =Oceny!H6 -> 14 | I5: Zastosował matematykę do opisu zależności między siłą, oporem i prędkością, współtworząc tradycję oksfordzkich kalkulatorów.
A6: 4 | B6: 1300?-1361? | C6: 14 | D6: Buridan, Jean | E6: Filozofia | F6: logika | H6: =Oceny!H7 -> 12 | I6: Rozwinął i rozpowszechnił teorię impetu, według której poruszyciel przekazuje ciału siłę podtrzymującą ruch; dopuszczał, że bez oporu ruch mógłby trwać bez końca. Osłabił w ten sposób arystotelesowski wymóg ciągłego zewnętrznego poruszyciela i przygotował jedno z pojęciowych źródeł mechaniki nowożytnej. Wniósł też istotny wkład do logiki terministycznej.
A7: 5 | B7: 1300?-1368 | C7: 14 | D7: Chauliac, Guy de | E7: Medycyna | F7: chirurgia | H7: =Oceny!H8 -> 15 | I7: Jego Chirurgia magna była przez stulecia podstawowym europejskim podręcznikiem chirurgii, łączącym wiedzę grecką, arabską i doświadczenie kliniczne.
A8: 6 | B8: 1304-1375 | C8: 14 | D8: Ibn al-Shatir | E8: Astronomia | F8: astronomia matematyczna | G8: Matematyka - matematyka stosowana i obliczeniowa | H8: =Oceny!H9 -> 13 | I8: Opracował nieptolemejskie modele ruchu planet o konstrukcjach matematycznych zbliżonych do później zastosowanych przez Kopernika.
A9: 7 | B9: 1304-1374 | C9: 14 | D9: Petrarca, Francesco | E9: Humanistyka | F9: humanizm renesansowy | H9: =Oceny!H10 -> 20 | I9: Zapoczątkował program humanistycznego powrotu do źródeł antycznych i zasadniczo wpłynął na renesansową kulturę literacką oraz historyczną samoświadomość Europy.
A10: 8 | B10: 1318-1389 | C10: 14 | D10: Dondi, Giovanni de’ | E10: Technika i inżynieria | F10: przyrządy pomiarowe i optyczne | G10: Astronomia - astronomia matematyczna | H10: =Oceny!H11 -> 14 | I10: Nie był twórcą filozofii mechanistycznej, ale jego złożony zegar astronomiczny tworzył materialne doświadczenie bardzo ważne dla późniejszej metaforyki: skomplikowany układ może wykonywać regularne ruchy dzięki własnej konstrukcji, bez ciągłego kierowania nim z zewnątrz. Astrarium odtwarzało ruchy Słońca, Księżyca i znanych planet, kalendarz oraz cykle zaćmień; projekt opisał w Tractatus Astrarii.
A11: 9 | B11: 1320?-1390 | C11: 14 | D11: Albert z Saksonii | E11: Filozofia | F11: logika | H11: =Oceny!H12 -> 9 | I11: Rozwijał teorię impetu, analizę ruchu i logikę, przekazując dorobek paryskiej filozofii przyrody uniwersytetom Europy Środkowej.
A12: 10 | B12: 1320?-1382 | C12: 14 | D12: Oresme, Nicole | E12: Matematyka | F12: analiza matematyczna | G12: Ekonomia - ekonomia polityczna | H12: =Oceny!H13 -> 19 | I12: Wprowadzał graficzne przedstawianie zmiennych wielkości, analizował ruch i pieniądz oraz rozważał możliwość obrotu Ziemi. Porównywał uporządkowane ruchy niebios do zegara uruchomionego przez Boga, dzięki czemu mechaniczna regularność stała się wyobrażalnym sposobem działania stworzonej natury.
A13: 11 | B13: 1328?-1384 | C13: 14 | D13: Wycliffe, John | E13: Filozofia | F13: filozofia religii | H13: =Oceny!H14 -> 13 | I13: Rozwinął realistyczną metafizykę i radykalną krytykę instytucji kościelnych, wpływając na późniejsze ruchy reformacyjne.
A14: 12 | B14: 1332-1406 | C14: 14 | D14: Ibn Chaldun | E14: Nauki społeczne | F14: teoria społeczna | G14: Historia - historiografia powszechna; Filozofia - filozofia historii; Ekonomia - ekonomia polityczna | H14: =Oceny!H15 -> 24 | I14: Stworzył w Muqaddimie porównawczą teorię powstawania, ekspansji i upadku dynastii, opartą na więzi grupowej oraz analizie środowiska i organizacji społecznej. Jako historyk sformułował krytyczne zasady oceny przekazów i szukał powtarzalnych mechanizmów dziejowych. Analizował również pracę, podatki, ceny i dochody państwa.
A15: 13 | B15: 1340?-1425? | C15: 14 | D15: Madhava z Sangamagramy | E15: Matematyka | F15: analiza matematyczna | G15: Astronomia - astronomia matematyczna | H15: =Oceny!H16 -> 21 | I15: Odkrył szeregi nieskończone dla funkcji trygonometrycznych i liczby pi, wyprzedzając europejski rachunek nieskończonościowy.
A16: 14 | B16: 1355?-1415 | C16: 14 | D16: Chrysoloras, Manuel | E16: Filologia i krytyka tekstu | F16: filologia klasyczna | H16: =Oceny!H17 -> 16 | I16: Nauczając greki we Włoszech i tłumacząc teksty, odegrał kluczową rolę w odrodzeniu zachodnich studiów nad literaturą grecką.
A17: 15 | B17: 1351-1420 | C17: 15 | D17: Ailly, Pierre d’ | E17: Filozofia | F17: logika | G17: Nauki o Ziemi i geografia - geografia i kartografia | H17: =Oceny!H18 -> 9 | I17: Łączył filozofię nominalistyczną z kosmografią, a jego Imago mundi oddziaływało na europejskie wyobrażenia geograficzne epoki odkryć.
A18: 16 | B18: 1355?-1452 | C18: 15 | D18: Gemistos Plethon, Georgios | E18: Filozofia | F18: filozofia polityczna i społeczna | H18: =Oceny!H19 -> 14 | I18: Przywrócił zachodniej Europie żywe zainteresowanie Platonem i inspirował renesansowy neoplatonizm oraz projekty reform politycznych. Jego florenckie wykłady silnie wpłynęły na Marsilia Ficina.
A19: 17 | B19: 1364-1436 | C19: 15 | D19: Qadi Zada al-Rumi | E19: Matematyka | F19: matematyka stosowana i obliczeniowa | G19: Astronomia - astronomia matematyczna | H19: =Oceny!H20 -> 11 | I19: Rozwijał astronomię matematyczną szkoły samarkandzkiej i współtworzył środowisko badawcze obserwatorium Uług Bega.
A20: 18 | B20: 1370?-1444 | C20: 15 | D20: Bruni, Leonardo | E20: Historia | F20: historiografia polityczna | G20: Humanistyka - humanizm renesansowy; Filozofia - filozofia polityczna i społeczna | H20: =Oceny!H21 -> 14 | I20: W Historii ludu florenckiego zastosował humanistyczną krytykę źródeł i świecką periodyzację, rozwijając renesansową historiografię polityczną. Jego przekłady z greki oraz pisma o Florencji współtworzyły humanizm obywatelski i republikańską myśl polityczną.
A21: 19 | B21: 1377-1446 | C21: 15 | D21: Brunelleschi, Filippo | E21: Technika i inżynieria | F21: architektura i urbanistyka | G21: Matematyka - matematyka stosowana i obliczeniowa | H21: =Oceny!H22 -> 16 | I21: Rozwiązał problem konstrukcji kopuły florenckiej katedry i współtworzył matematyczne zasady perspektywy linearnej.
A22: 20 | B22: 1380?-1429 | C22: 15 | D22: al-Kashi, Dżamszid | E22: Matematyka | F22: geometria | G22: Astronomia - astronomia matematyczna | H22: =Oceny!H23 -> 17 | I22: Osiągnął wyjątkową precyzję obliczeń dziesiętnych i liczby pi oraz rozwinął metody numeryczne stosowane w astronomii.
A23: 21 | B23: 1380?-1460 | C23: 15 | D23: Parameshvara | E23: Astronomia | F23: astronomia obserwacyjna | G23: Matematyka - matematyka stosowana i obliczeniowa | H23: =Oceny!H24 -> 12 | I23: Prowadził wieloletnie obserwacje astronomiczne i rozwijał szkołę Kerala, w tym metody obliczania zaćmień i poprawek planetarnych.
A24: 22 | B24: 1394-1449 | C24: 15 | D24: Uług Beg | E24: Astronomia | F24: astronomia obserwacyjna | H24: =Oceny!H25 -> 16 | I24: Zbudował wielkie obserwatorium w Samarkandzie i opracował jeden z najdokładniejszych przedteleskopowych katalogów gwiazd.
A25: 23 | B25: 1400?-1468 | C25: 15 | D25: Gutenberg, Johannes | E25: Technika i inżynieria | F25: drukarstwo | H25: =Oceny!H26 -> 24 | I25: Stworzył w Europie pierwszy, skuteczny przemysłowy system druku ruchomymi metalowymi czcionkami, oparty na stopie metalu odpornego na nacisk (ołów, cyna, antymon), jednolitych i wymiennych czcionkach, odpowiedniej farbie drukarskiej oraz prasie. Data pierwszego użycia niepewna, 1440 lub 1450. Jego wynalazek umożliwił seryjną produkcję książek i zapoczątkował szybkie upowszechnienie druku w Europie.
A26: 24 | B26: 1401-1464 | C26: 15 | D26: Cusanus, Nicolaus (Mikołaj z Kuzy) | E26: Filozofia | F26: epistemologia | H26: =Oceny!H27 -> 14 | I26: Rozwinął koncepcję docta ignorantia oraz ideę zbieżności przeciwieństw, łącząc późnośredniowieczną metafizykę z renesansową refleksją nad poznaniem.
A27: 25 | B27: 1403-1474 | C27: 15 | D27: Ali Kuszczi | E27: Astronomia | F27: astronomia matematyczna | G27: Matematyka - matematyka stosowana i obliczeniowa; Fizyka - mechanika | H27: =Oceny!H28 -> 15 | I27: Rozwijał matematyczną astronomię niezależnie od arystotelesowskiej fizyki i uczestniczył w transmisji tradycji samarkandzkiej do świata osmańskiego. Współpracował z Uług Begiem przy tworzeniu tablic astronomicznych szkoły samarkandzkiej.
A28: 26 | B28: 1404-1472 | C28: 15 | D28: Alberti, Leon Battista | E28: Humanistyka | F28: historia sztuki | H28: =Oceny!H29 -> 13 | I28: Sformułował wpływowe zasady perspektywy, architektury i proporcji, nadając renesansowej teorii sztuki systematyczny charakter.
A29: 27 | B29: 1407-1457 | C29: 15 | D29: Valla, Lorenzo | E29: Filologia i krytyka tekstu | F29: krytyka tekstu | H29: =Oceny!H30 -> 14 | I29: Zastosował krytykę językową do wykazania fałszerstwa Donacji Konstantyna i przyczynił się do rozwoju nowożytnej filologii historycznej.
A30: 28 | B30: 1415?-1492 | C30: 15 | D30: Piero della Francesca | E30: Matematyka | F30: geometria | H30: =Oceny!H31 -> 11 | I30: Usystematyzował matematyczne zasady perspektywy i proporcji, łącząc praktykę malarską z geometrią renesansową.
A31: 29 | B31: 1433-1499 | C31: 15 | D31: Ficino, Marsilio | E31: Humanistyka | F31: teoria kultury | H31: =Oceny!H32 -> 9 | I31: Przełożył na łacinę dzieła Platona i upowszechnił renesansowy neoplatonizm, silnie oddziałując na europejską kulturę intelektualną.
A32: 30 | B32: 1436-1476 | C32: 15 | D32: Regiomontanus | E32: Astronomia | F32: astronomia obserwacyjna | G32: Matematyka - matematyka stosowana i obliczeniowa | H32: =Oceny!H33 -> 11 | I32: Rozwinął trygonometrię oraz astronomię obserwacyjną i przygotował tablice astronomiczne ważne dla późniejszych badań i nawigacji.
A33: 31 | B33: 1447?-1517 | C33: 15 | D33: Pacioli, Luca | E33: Matematyka | F33: matematyka stosowana i obliczeniowa | H33: =Oceny!H34 -> 19 | I33: Usystematyzował i opublikował opis księgowości podwójnej oraz popularyzował matematykę użytkową i teorię proporcji. Przy traktacie o proporcjach współpracował z Leonardem da Vinci.
A34: 32 | B34: 1449?-1515 | C34: 15 | D34: Manuzio, Aldo | E34: Filologia i krytyka tekstu | F34: filologia klasyczna | H34: =Oceny!H35 -> 15 | I34: Upowszechnił starannie opracowane wydania klasyków greckich i łacińskich oraz format książki przenośnej, zmieniając europejski obieg tekstów.
A35: 33 | B35: 1454-1512 | C35: 15 | D35: Vespucci, Amerigo | E35: Nauki o Ziemi i geografia | F35: geografia i kartografia | H35: =Oceny!H36 -> 11 | I35: Rozpoznał, że ziemie odkrywane za Atlantykiem stanowią odrębny kontynent, a relacje przypisywane jego wyprawom wpłynęły na europejską geografię.
A36: 34 | B36: 1459-1507 | C36: 15 | D36: Behaim, Martin | E36: Nauki o Ziemi i geografia | F36: geografia i kartografia | H36: =Oceny!H37 -> 5 | I36: Wykonał jeden z najstarszych zachowanych globusów ziemskich, dokumentujący europejską wiedzę geograficzną przed wyprawą Kolumba.
A37: 35 | B37: 1463-1494 | C37: 15 | D37: Pico della Mirandola, Giovanni | E37: Filozofia | F37: metafizyka i ontologia | G37: Humanistyka - humanizm renesansowy | H37: =Oceny!H38 -> 14 | I37: Stworzył program syntezy różnych tradycji filozoficznych, a jego mowa o godności człowieka stała się ważnym tekstem renesansowego humanizmu.
A38: 36 | B38: 1444-1544 | C38: 16 | D38: Nilakantha Somayaji | E38: Astronomia | F38: astronomia matematyczna | G38: Matematyka - matematyka stosowana i obliczeniowa | H38: =Oceny!H39 -> 13 | I38: Udoskonalił modele planetarne szkoły Kerala, tworząc system trafniej opisujący ruch Merkurego i Wenus wokół Słońca.
A39: 37 | B39: 1452-1519 | C39: 16 | D39: da Vinci, Leonardo | E39: Technika i inżynieria | F39: architektura i urbanistyka | G39: Fizyka - mechanika; Medycyna - anatomia | H39: =Oceny!H40 -> 20 | I39: Prowadził pionierskie studia anatomii, mechaniki, hydrauliki i konstrukcji maszyn, łącząc obserwację przyrody z projektowaniem technicznym. Ilustrował traktat Luki Pacioliego o proporcjach matematycznych.
A40: 38 | B40: 1455-1522 | C40: 16 | D40: Reuchlin, Johannes | E40: Filologia i krytyka tekstu | F40: filologia biblijna | H40: =Oceny!H41 -> 9 | I40: Rozwinął chrześcijańskie studia nad językiem hebrajskim i przyczynił się do powstania nowożytnej filologii biblijnej.
A41: 39 | B41: 1462-1525 | C41: 16 | D41: Pomponazzi, Pietro | E41: Filozofia | F41: metafizyka i ontologia | H41: =Oceny!H42 -> 7 | I41: Bronił naturalistycznej interpretacji Arystotelesa i rozdzielał filozoficzne rozumowanie od prawd przyjmowanych na gruncie wiary.
A42: 40 | B42: 1466?-1536 | C42: 16 | D42: Erasmus Roterodamus, Desiderius (Erazm z Rotterdamu) | E42: Filologia i krytyka tekstu | F42: filologia biblijna | G42: Filozofia - etyka | H42: =Oceny!H43 -> 19 | I42: Przygotował krytyczne wydanie greckiego Nowego Testamentu i rozwinął wpływowy program humanizmu chrześcijańskiego oraz reformy edukacji.
A43: 41 | B43: 1469-1527 | C43: 16 | D43: Machiavelli, Niccolò | E43: Filozofia | F43: filozofia polityczna i społeczna | H43: =Oceny!H44 -> 19 | I43: Ukształtował realistyczną analizę władzy i konfliktu politycznego, oddzielając badanie polityki od tradycyjnej moralistyki.
A44: 42 | B44: 1472-1529 | C44: 16 | D44: Wang Yangming | E44: Filozofia | F44: etyka | H44: =Oceny!H45 -> 20 | I44: Rozwinął doktrynę jedności wiedzy i działania oraz teorię wrodzonej wiedzy moralnej, tworząc jedną z najważniejszych szkół neokonfucjanizmu.
A45: 43 | B45: 1473-1543 | C45: 16 | D45: Kopernik, Mikołaj | E45: Astronomia | F45: astronomia obserwacyjna | H45: =Oceny!H46 -> 25 | I45: Sformułował heliocentryczny model Układu Słonecznego, zapoczątkowując zasadniczą przemianę astronomii i obrazu świata. Umieszczając Ziemię wśród ciał niebieskich, osłabił arystotelesowski podział kosmosu i przygotował jego późniejsze ujęcie jako jednego systemu podlegającego wspólnej fizyce mechanistycznej.
A46: 44 | B46: 1478?–1553 | C46: 16 | D46: Fracastoro, Girolamo | E46: Medycyna | F46: mikrobiologia i choroby zakaźne | H46: =Oceny!H47 -> 21 | I46: W De contagione opisał przenoszenie chorób przez bezpośredni kontakt, skażone przedmioty i na odległość, postulując swoiste seminaria contagionum. Był ważnym prekursorem epidemiologii i teorii drobnoustrojów.
A47: 45 | B47: 1478-1535 | C47: 16 | D47: More, Thomas (Tomasz Morus) | E47: Filozofia | F47: filozofia polityczna i społeczna | G47: Nauki społeczne - teoria społeczna | H47: =Oceny!H48 -> 15 | I47: W Utopii stworzył wpływowy model krytyki społeczeństwa europejskiego poprzez opis alternatywnego ładu politycznego.
A48: 46 | B48: 1480–1539? | C48: 16 | D48: Biringuccio, Vannoccio | E48: Technika i inżynieria | F48: metalurgia i technologia materiałów | G48: Chemia - chemia przemysłowa | H48: =Oceny!H49 -> 21 | I48: W De la pirotechnia przedstawił praktyczną wiedzę o górnictwie, hutnictwie, odlewnictwie, piecach, prochu i rozdzielaniu metali. Stworzył najwcześniejszy drukowany europejski traktat poświęcony metalurgii i technologii chemicznej.
A49: 47 | B49: 1493?-1541 | C49: 16 | D49: Paracelsus | E49: Medycyna | F49: medycyna kliniczna i diagnostyka | G49: Chemia - chemia ogólna i nieorganiczna | H49: =Oceny!H50 -> 14 | I49: Odrzucał część tradycyjnej medycyny humoralnej, rozwijał zastosowanie substancji chemicznych w terapii i współtworzył jatrochemię.
A50: 48 | B50: 1493-1540 | C50: 16 | D50: Vives, Juan Luis | E50: Filozofia | F50: filozofia polityczna i społeczna | H50: =Oceny!H51 -> 9 | I50: Rozwijał empiryczne podejście do życia psychicznego oraz nowoczesną refleksję nad edukacją, pomocą ubogim i reformą społeczną.
A51: 49 | B51: 1494-1555 | C51: 16 | D51: Agricola, Georgius | E51: Nauki o Ziemi i geografia | F51: geologia ogólna | H51: =Oceny!H52 -> 17 | I51: Usystematyzował wiedzę o minerałach, złożach i technikach górniczych, tworząc podstawowe dzieło wczesnej geologii i metalurgii.
A52: 50 | B52: 1501-1576 | C52: 16 | D52: Cardano, Girolamo | E52: Matematyka | F52: teoria prawdopodobieństwa i statystyka | G52: Medycyna - fizjologia | H52: =Oceny!H53 -> 12 | I52: Opublikował metody rozwiązywania równań trzeciego i czwartego stopnia oraz wniósł wczesny wkład do teorii prawdopodobieństwa. Jako lekarz opisywał również choroby, leczenie i fizjologię człowieka.
A53: 51 | B53: 1502-1578 | C53: 16 | D53: Nunes, Pedro | E53: Matematyka | F53: matematyka stosowana i obliczeniowa | H53: =Oceny!H54 -> 13 | I53: Rozwinął matematyczną teorię loksodromy i instrumenty pomiarowe, wzmacniając podstawy oceanicznej nawigacji.
A54: 52 | B54: 1507-1573 | C54: 16 | D54: Vignola, Giacomo Barozzi da | E54: Technika i inżynieria | F54: architektura i urbanistyka | H54: =Oceny!H55 -> 16 | I54: Usystematyzował klasyczne porządki architektoniczne i poprzez traktat Regola delli cinque ordini d’architettura wywarł trwały wpływ na europejską praktykę projektową.
A55: 53 | B55: 1508–1555 | C55: 16 | D55: Frisius, Gemma | E55: Nauki o Ziemi i geografia | F55: geografia i kartografia | G55: Matematyka - matematyka stosowana i obliczeniowa; Technika i inżynieria - przyrządy pomiarowe i optyczne | H55: =Oceny!H56 -> 21 | I55: Opisał zasadę triangulacji w geodezji i kartografii, rozwijał metody określania długości geograficznej oraz projektował instrumenty astronomiczne. Połączył matematykę, pomiar terenu i tworzenie map.
A56: 54 | B56: 1508-1580 | C56: 16 | D56: Palladio, Andrea | E56: Technika i inżynieria | F56: architektura i urbanistyka | H56: =Oceny!H57 -> 20 | I56: Nadał architekturze renesansowej wzorcową syntezę proporcji klasycznych, funkcji i kompozycji, a Cztery księgi o architekturze ukształtowały palladianizm.
A57: 55 | B57: 1509-1588 | C57: 16 | D57: Telesio, Bernardino | E57: Filozofia | F57: metafizyka i ontologia | H57: =Oceny!H58 -> 9 | I57: Postulował badanie natury według jej własnych zasad i doświadczenia zmysłowego, osłabiając dominację scholastycznego arystotelizmu.
A58: 56 | B58: 1510?-1590 | C58: 16 | D58: Paré, Ambroise | E58: Medycyna | F58: chirurgia | H58: =Oceny!H59 -> 15 | I58: Zreformował chirurgię wojenną, zastępując brutalne metody leczenia ran łagodniejszym postępowaniem i rozwijając techniki podwiązywania naczyń.
A59: 57 | B59: 1511?-1553 | C59: 16 | D59: Servetus, Michael | E59: Medycyna | F59: fizjologia | H59: =Oceny!H60 -> 11 | I59: Opisał krążenie płucne krwi, podważając tradycyjne poglądy na przepływ krwi między komorami serca.
A60: 58 | B60: 1512-1594 | C60: 16 | D60: Mercator, Gerardus | E60: Nauki o Ziemi i geografia | F60: geografia i kartografia | H60: =Oceny!H61 -> 18 | I60: Opracował odwzorowanie walcowe zachowujące kąty, które stało się podstawowym narzędziem nowożytnej nawigacji morskiej.
A61: 59 | B61: 1514-1564 | C61: 16 | D61: Vesalius, Andreas | E61: Medycyna | F61: anatomia | H61: =Oceny!H62 -> 20 | I61: Oparł anatomię człowieka na systematycznych sekcjach zwłok i skorygował liczne błędy tradycji galenowej.
A62: 60 | B62: 1515-1572 | C62: 16 | D62: Ramus, Petrus | E62: Filozofia | F62: logika | H62: =Oceny!H63 -> 13 | I62: Przebudował nauczanie logiki i retoryki, proponując uproszczoną metodę porządkowania wiedzy szeroko przyjętą w szkołach protestanckich.
A63: 61 | B63: 1516-1565 | C63: 16 | D63: Gessner, Conrad | E63: Biologia | F63: zoologia | H63: =Oceny!H64 -> 9 | I63: Stworzył rozległą syntezę wiedzy zoologicznej i bibliograficznej, ważną dla rozwoju nowożytnej historii naturalnej.
A64: 62 | B64: 1517–1564 | C64: 16 | D64: Belon, Pierre | E64: Biologia | F64: zoologia | G64: Medycyna - anatomia | H64: =Oceny!H65 -> 18 | I64: Porównywał budowę szkieletów człowieka i ptaków, prowadził obserwacje zwierząt i roślin podczas podróży oraz rozwijał opisową ornitologię. Był ważnym prekursorem anatomii porównawczej.
A65: 63 | B65: 1518-1593 | C65: 16 | D65: Li Shizhen | E65: Medycyna | F65: farmakologia | H65: =Oceny!H66 -> 17 | I65: Opracował monumentalne kompendium Bencao gangmu, systematyzujące tysiące substancji leczniczych i recept chińskiej farmakologii.
A66: 64 | B66: 1519–1603 | C66: 16 | D66: Cesalpino, Andrea | E66: Biologia | F66: botanika | G66: Medycyna - fizjologia | H66: =Oceny!H67 -> 18 | I66: Klasyfikował rośliny według trwałych cech budowy, zwłaszcza owoców i nasion, odchodząc od porządku czysto użytkowego. Badał także serce, naczynia i krążenie krwi.
A67: 65 | B67: 1522-1605 | C67: 16 | D67: Aldrovandi, Ulisse | E67: Biologia | F67: systematyka i taksonomia | H67: =Oceny!H68 -> 9 | I67: Zbudował rozległe kolekcje przyrodnicze i program systematycznego opisu organizmów, wspierając rozwój muzealnictwa naukowego.
A68: 66 | B68: 1522-1565 | C68: 16 | D68: Ferrari, Lodovico | E68: Matematyka | F68: algebra | H68: =Oceny!H69 -> 12 | I68: Odkrył ogólną metodę rozwiązywania równań czwartego stopnia, ważny etap rozwoju algebry renesansowej.
A69: 67 | B69: 1526-1572 | C69: 16 | D69: Bombelli, Rafael | E69: Matematyka | F69: algebra | H69: =Oceny!H70 -> 12 | I69: Nadał spójne reguły rachunku liczbom zespolonym i pokazał ich użyteczność w rozwiązywaniu równań sześciennych.
A70: 68 | B70: 1527-1608 | C70: 16 | D70: Dee, John | E70: Matematyka | F70: matematyka stosowana i obliczeniowa | G70: Astronomia - astronomia matematyczna | H70: =Oceny!H71 -> 12 | I70: Popularyzował matematykę praktyczną, szkolił nawigatorów i współtworzył intelektualne zaplecze angielskiej ekspansji morskiej. Prowadził również obserwacje astronomiczne i prace nad reformą kalendarza.
A71: 69 | B71: 1530-1596 | C71: 16 | D71: Bodin, Jean | E71: Filozofia | F71: filozofia polityczna i społeczna | H71: =Oceny!H72 -> 13 | I71: Sformułował nowożytną teorię suwerenności jako trwałej i najwyższej władzy państwowej. W Methodus ad facilem historiarum cognitionem (1566) rozwinął krytyczną i porównawczą metodę badania dziejów, odrzucił mit złotego wieku oraz stałego upadku ludzkości i wskazał osiągnięcia nowożytnych jako świadectwo możliwości historycznego postępu.
A72: 70 | B72: 1533-1592 | C72: 16 | D72: Montaigne, Michel de | E72: Filozofia | F72: epistemologia | G72: Antropologia - antropologia kulturowa | H72: =Oceny!H73 -> 15 | I72: Nadał esejowi dojrzałą formę filozoficzną i rozwinął sceptyczną analizę człowieka, obyczajów oraz granic poznania.
A73: 71 | B73: 1535?-1615 | C73: 16 | D73: Della Porta, Giambattista | E73: Technika i inżynieria | F73: urządzenia przemysłowe i mechanizacja | G73: Fizyka - optyka | H73: =Oceny!H74 -> 6 | I73: Prowadził doświadczenia z optyki i urządzeniami technicznymi oraz popularyzował empiryczne badanie zjawisk przyrody. Rozwijał zastosowania camera obscura i badał wykorzystanie soczewek.
A74: 72 | B74: 1536-1611 | C74: 16 | D74: Zhu Zaiyu | E74: Matematyka | F74: matematyka stosowana i obliczeniowa | H74: =Oceny!H75 -> 14 | I74: Wyprowadził matematycznie system równomiernie temperowany, obliczając stosunki częstotliwości z dużą dokładnością.
A75: 73 | B75: 1538-1612 | C75: 16 | D75: Clavius, Christopher | E75: Astronomia | F75: astronomia matematyczna | G75: Matematyka - matematyka stosowana i obliczeniowa | H75: =Oceny!H76 -> 15 | I75: Był głównym matematycznym architektem reformy kalendarza gregoriańskiego i ukształtował standard nauczania matematyki w kolegiach jezuickich.
A76: 74 | B76: 1540-1609 | C76: 16 | D76: Scaliger, Joseph Justus | E76: Filologia i krytyka tekstu | F76: filologia klasyczna | H76: =Oceny!H77 -> 17 | I76: Stworzył naukową chronologię porównawczą, synchronizując systemy datowania świata greckiego, rzymskiego, żydowskiego i bliskowschodniego.
A77: 75 | B77: 1540-1603 | C77: 16 | D77: Viète, François | E77: Matematyka | F77: algebra | H77: =Oceny!H78 -> 18 | I77: Wprowadził systematyczną notację literową dla wielkości znanych i niewiadomych, tworząc podstawy nowoczesnej algebry symbolicznej.
A78: 76 | B78: 1544-1603 | C78: 16 | D78: Gilbert, William | E78: Fizyka | F78: elektromagnetyzm | H78: =Oceny!H79 -> 13 | I78: W dziele De magnete oparł badania magnetyzmu na eksperymencie i wykazał, że Ziemia zachowuje się jak wielki magnes. Popierał i upowszechniał teorię Kopernika.
A79: 77 | B79: 1545–1607 | C79: 16 | D79: del Monte, Guidobaldo | E79: Fizyka | F79: mechanika | G79: Matematyka - matematyka stosowana i obliczeniowa | H79: =Oceny!H80 -> 18 | I79: W Mechanicorum liber systematycznie analizował maszyny proste, równowagę i środki ciężkości w tradycji Archimedesa. Przyczynił się do matematyzacji statyki i wspierał wczesne prace Galileusza.
A80: 78 | B80: 1546-1601 | C80: 16 | D80: Brahe, Tycho | E80: Astronomia | F80: astronomia obserwacyjna | H80: =Oceny!H81 -> 21 | I80: Wykonał najdokładniejsze przedteleskopowe pomiary położeń ciał niebieskich, które umożliwiły Keplerowi sformułowanie praw ruchu planet.
A81: 79 | B81: 1547-1606 | C81: 16 | D81: Lipsius, Justus | E81: Filozofia | F81: etyka | G81: Filologia i krytyka tekstu - filologia klasyczna; Filozofia - filozofia polityczna i społeczna | H81: =Oceny!H82 -> 16 | I81: Stworzył nowożytny neostoicyzm, łącząc etykę stoicką z chrześcijaństwem, oraz sformułował wpływową koncepcję stałości w warunkach wojen religijnych. Jego edycje i komentarze przyczyniły się także do odnowienia studiów nad Seneką i Tacytem.
A82: 80 | B82: 1548-1600 | C82: 16 | D82: Bruno, Giordano | E82: Filozofia | F82: metafizyka i ontologia | G82: Astronomia - kosmologia | H82: =Oceny!H83 -> 18 | I82: Bronił wizji nieskończonego wszechświata i wielości światów, radykalizując konsekwencje kosmologii kopernikańskiej.
A83: 81 | B83: 1548-1620 | C83: 16 | D83: Stevin, Simon | E83: Matematyka | F83: matematyka stosowana i obliczeniowa | G83: Fizyka - mechanika | H83: =Oceny!H84 -> 16 | I83: Upowszechnił ułamki dziesiętne i rozwinął statykę oraz hydrostatykę, łącząc matematykę z praktyką inżynierską.
A84: 82 | B84: 1548-1617 | C84: 16 | D84: Suárez, Francisco | E84: Filozofia | F84: filozofia polityczna i społeczna | H84: =Oceny!H85 -> 17 | I84: Stworzył wpływową syntezę późnej scholastyki oraz rozwinął teorię prawa naturalnego, suwerenności i stosunków między wspólnotami politycznymi.
A85: 83 | B85: 1550-1617 | C85: 16 | D85: Napier, John | E85: Matematyka | F85: matematyka stosowana i obliczeniowa | G85: Astronomia - astronomia matematyczna | H85: =Oceny!H86 -> 17 | I85: Wynalazł logarytmy jako narzędzie upraszczające obliczenia, zasadniczo wspomagając astronomię, nawigację i nauki ścisłe.
A86: 84 | B86: 1553–1613 | C86: 16 | D86: Ayanz y Beaumont, Jerónimo | E86: Technika i inżynieria | F86: urządzenia przemysłowe i mechanizacja | G86: Technika i inżynieria - silniki i energetyka | H86: =Oceny!H87 -> 18 | I86: Projektował i patentował urządzenia do odwadniania oraz wentylacji kopalń, wykorzystując parę do podnoszenia wody. Opracował również aparaturę nurkową, systemy chłodzenia i destylacji wody morskiej.
A87: 85 | B87: 1559–1614 | C87: 16 | D87: Casaubon, Isaac | E87: Filologia i krytyka tekstu | F87: filologia klasyczna | G87: Historia - historia religii; Filologia i krytyka tekstu - krytyka tekstu | H87: =Oceny!H88 -> 19 | I87: Zastosował krytykę filologiczną i historyczną do Corpus Hermeticum, wykazując jego późnoantyczne pochodzenie zamiast domniemanej starożytności sprzed Mojżesza. Osłabił renesansową koncepcję prisca theologia i wpłynął na historię religii.
A88: 86 | B88: 1563?-1614 | C88: 16 | D88: Lee, William | E88: Technika i inżynieria | F88: urządzenia przemysłowe i mechanizacja | H88: =Oceny!H89 -> 15 | I88: Skonstruował maszynę dziewiarską do pończoch, jeden z najwcześniejszych skutecznych mechanizmów automatyzujących wytwarzanie wyrobów włókienniczych.
A89: 87 | B89: 1561-1626 | C89: 17 | D89: Bacon, Francis | E89: Filozofia | F89: filozofia nauki | H89: =Oceny!H90 -> 22 | I89: Sformułował program systematycznego badania empirycznego i krytykę przeszkód poznawczych, silnie wpływając na samoświadomość nowożytnej nauki. Łączył rozwój wiedzy z jej użytecznością i opanowywaniem przyrody.
A90: 88 | B90: 1561-1636 | C90: 17 | D90: Santorio, Santorio | E90: Medycyna | F90: fizjologia | H90: =Oceny!H91 -> 14 | I90: Wprowadzał ilościowy pomiar do medycyny, badając przemianę materii i konstruując przyrządy kliniczne, w tym termometr oraz pulsilogium.
A91: 89 | B91: 1562-1633 | C91: 17 | D91: Xu Guangqi | E91: Astronomia | F91: astronomia matematyczna | G91: Matematyka - matematyka stosowana i obliczeniowa | H91: =Oceny!H92 -> 16 | I91: Współtworzył chińskie przekłady Elementów Euklidesa oraz reformował kalendarz i wiedzę rolniczą w Chinach dynastii Ming.
A92: 90 | B92: 1564-1642 | C92: 17 | D92: Galilei, Galileo (Galileusz) | E92: Fizyka | F92: mechanika | G92: Astronomia - kosmologia | H92: =Oceny!H93 -> 25 | I92: Stworzył podstawy ilościowego badania ruchu i dzięki obserwacjom teleskopowym dostarczył kluczowych argumentów przeciw tradycyjnej kosmologii. Zastępował arystotelesowskie kategorie ruchu modelami matematyczno-mechanicznymi i ujmował materię nieba oraz Ziemi jako podlegającą wspólnemu opisowi, przygotowując filozofię mechanistyczną.
A93: 91 | B93: 1568-1639 | C93: 17 | D93: Campanella, Tommaso | E93: Filozofia | F93: filozofia polityczna i społeczna | H93: =Oceny!H94 -> 9 | I93: Łączył naturalizm z projektem reformy wiedzy i przedstawił wpływową utopię polityczną w Mieście Słońca.
A94: 92 | B94: 1571-1630 | C94: 17 | D94: Kepler, Johannes | E94: Astronomia | F94: astronomia matematyczna | G94: Matematyka - matematyka stosowana i obliczeniowa | H94: =Oceny!H95 -> 25 | I94: Był jednym z twórców filozofii mechanistycznej. Sformułował trzy prawa ruchu planet, zastępując kołowe orbity elipsami i nadając astronomii precyzyjną strukturę matematyczną. W astronomii fizycznej szukał realnych przyczyn ruchów planet, stopniowo zastępował duszę poruszającą je siłą fizyczną i ujmował kosmos coraz wyraźniej jako maszynę oraz mechanicznie uporządkowany układ.
A95: 93 | B95: 1578-1657 | C95: 17 | D95: Harvey, William | E95: Medycyna | F95: fizjologia | H95: =Oceny!H96 -> 24 | I95: Wykazał eksperymentalnie krążenie krwi w zamkniętym układzie napędzanym przez serce.
A96: 94 | B96: 1580-1644 | C96: 17 | D96: Helmont, Jan Baptista van | E96: Chemia | F96: chemia ogólna i nieorganiczna | G96: Medycyna - fizjologia | H96: =Oceny!H97 -> 15 | I96: Wprowadził pojęcie gazu, prowadził ilościowe doświadczenia chemiczne i rozwijał jatrochemiczne wyjaśnienia procesów życiowych.
A97: 95 | B97: 1580-1637 | C97: 17 | D97: Vernier, Pierre | E97: Technika i inżynieria | F97: przyrządy pomiarowe i optyczne | H97: =Oceny!H98 -> 15 | I97: Opracował skalę noniusza umożliwiającą dokładny odczyt ułamków działki przyrządu pomiarowego.
A98: 96 | B98: 1581–1656 | C98: 17 | D98: Ussher, James | E98: Historia | F98: historiografia powszechna | G98: Historia - historia religii | H98: =Oceny!H99 -> 12 | I98: W Annales Veteris Testamenti skonstruował chronologię dziejów powszechnych opartą na Biblii i źródłach klasycznych, datując stworzenie świata na 4004 rok p.n.e. Jego chronologia stała się wpływowym punktem odniesienia, wobec którego geologia rozwijała koncepcję głębokiego czasu i geologicznej historii Ziemi.
A99: 97 | B99: 1583-1645 | C99: 17 | D99: Grotius, Hugo | E99: Filozofia | F99: filozofia polityczna i społeczna | H99: =Oceny!H100 -> 21 | I99: Usystematyzował prawo wojny i pokoju oraz koncepcję prawa naturalnego, tworząc podstawy nowożytnego prawa międzynarodowego.
A100: 98 | B100: 1585-1658 | C100: 17 | D100: Cappel, Louis | E100: Filologia i krytyka tekstu | F100: filologia biblijna | G100: Filologia i krytyka tekstu - krytyka tekstu | H100: =Oceny!H101 -> 7 | I100: W Critica sacra wykazywał historyczne narastanie znaków samogłoskowych tekstu masoreckiego i znaczenie dawnych przekładów dla ustalania tekstu hebrajskiej Biblii. Wzmocnił filologiczne podstawy nowożytnej krytyki Starego Testamentu.
...

Sheet Oceny
A1: Widoczne po filtrowaniu: | C1: =SUBTOTAL(103,A4:A624) -> 621 | D1: ="Porównawcza skala znaczenia w obrębie zbioru "&Postacie!C1&" wpisów" -> Porównawcza skala znaczenia w obrębie zbioru 621 wpisów
A2: Każdy wiersz jest połączony z arkuszem „Postacie”; suma jest obliczana z pięciu kryteriów. Szczegóły interpretacji skali znajdują się w arkuszu „Metodologia i klasyfikacja”.
A3: Nr | B3: Nazwisko i imię | C3: Oryginalność (1-5) | D3: Znaczenie dla dziedziny (1-5) | E3: Wpływ historyczny (1-5) | F3: Trwałość merytoryczna (1-5) | G3: Współczesne oddziaływanie (1-5) | H3: Suma (5-25)
A4: =Postacie!A3 -> 1 | B4: =Postacie!D3 -> Ockham, Wilhelm | C4: 5 | D4: 5 | E4: 5 | F4: 4 | G4: 5 | H4: =SUM(C4:G4) -> 24
A5: =Postacie!A4 -> 2 | B5: =Postacie!D4 -> Wallingford, Richard of | C5: 3 | D5: 3 | E5: 2 | F5: 2 | G5: 2 | H5: =SUM(C5:G5) -> 12
A6: =Postacie!A5 -> 3 | B6: =Postacie!D5 -> Bradwardine, Thomas | C6: 3 | D6: 3 | E6: 3 | F6: 3 | G6: 2 | H6: =SUM(C6:G6) -> 14
A7: =Postacie!A6 -> 4 | B7: =Postacie!D6 -> Buridan, Jean | C7: 3 | D7: 3 | E7: 2 | F7: 2 | G7: 2 | H7: =SUM(C7:G7) -> 12
A8: =Postacie!A7 -> 5 | B8: =Postacie!D7 -> Chauliac, Guy de | C8: 2 | D8: 3 | E8: 3 | F8: 4 | G8: 3 | H8: =SUM(C8:G8) -> 15
A9: =Postacie!A8 -> 6 | B9: =Postacie!D8 -> Ibn al-Shatir | C9: 3 | D9: 3 | E9: 3 | F9: 2 | G9: 2 | H9: =SUM(C9:G9) -> 13
A10: =Postacie!A9 -> 7 | B10: =Postacie!D9 -> Petrarca, Francesco | C10: 5 | D10: 4 | E10: 4 | F10: 3 | G10: 4 | H10: =SUM(C10:G10) -> 20
A11: =Postacie!A10 -> 8 | B11: =Postacie!D10 -> Dondi, Giovanni de’ | C11: 3 | D11: 4 | E11: 3 | F11: 2 | G11: 2 | H11: =SUM(C11:G11) -> 14
A12: =Postacie!A11 -> 9 | B12: =Postacie!D11 -> Albert z Saksonii | C12: 2 | D12: 2 | E12: 2 | F12: 1 | G12: 2 | H12: =SUM(C12:G12) -> 9
A13: =Postacie!A12 -> 10 | B13: =Postacie!D12 -> Oresme, Nicole | C13: 4 | D13: 4 | E13: 4 | F13: 3 | G13: 4 | H13: =SUM(C13:G13) -> 19
A14: =Postacie!A13 -> 11 | B14: =Postacie!D13 -> Wycliffe, John | C14: 2 | D14: 2 | E14: 4 | F14: 1 | G14: 4 | H14: =SUM(C14:G14) -> 13
A15: =Postacie!A14 -> 12 | B15: =Postacie!D14 -> Ibn Chaldun | C15: 5 | D15: 5 | E15: 5 | F15: 4 | G15: 5 | H15: =SUM(C15:G15) -> 24
... A624: =Postacie!A623 -> 621 | B624: =Postacie!D623 -> Pyszczynski, Thomas | C624: 4 | D624: 4 | E624: 4 | F624: 4 | G624: 4 | H624: =SUM(C624:G624) -> 20

Sheet Metodologia i klasyfikacja
A1: Metodologia i zasady klasyfikacji
A3: Kryterium oceny | B3: Definicja | D3: Ocena | E3: Znaczenie w obrębie zbioru | G3: Stulecie | H3: Liczba postaci
A4: Oryginalność | B4: Stopień nowości teorii, metody, odkrycia lub technologii na tle pozostałych postaci w zbiorze. | D4: 5 | E4: Poziom wyjątkowy, właściwy niewielkiej grupie najbardziej przełomowych postaci. | G4: 14 | H4: =COUNTIF(Postacie!$C$3:$C$623,G4) -> 14
A5: Znaczenie dla dziedziny | B5: Znaczenie wkładu dla powstania, przebudowy lub dalszego rozwoju danej dziedziny. | D5: 4 | E5: Osiągnięcie fundamentalne, wyraźnie przewyższające większość listy. | G5: 15 | H5: =COUNTIF(Postacie!$C$3:$C$623,G5) -> 21
A6: Wpływ historyczny | B6: Zakres oddziaływania naukowego, społecznego, politycznego, technicznego albo cywilizacyjnego. | D6: 3 | E6: Bardzo ważny wkład, typowy dla postaci zakwalifikowanej do zestawienia. | G6: 16 | H6: =COUNTIF(Postacie!$C$3:$C$623,G6) -> 51
A7: Trwałość merytoryczna | B7: Stopień, w jakim wyniki, metody, pojęcia lub rozwiązania pozostają naukowo użyteczne albo stanowią trwały fundament. | D7: 2 | E7: Znaczący wkład, ale bardziej ograniczony, zależny od kontekstu lub częściowo zastąpiony. | G7: 17 | H7: =COUNTIF(Postacie!$C$3:$C$623,G7) -> 70
A8: Współczesne oddziaływanie | B8: Obecność postaci w kulturze, edukacji, debacie publicznej, instytucjach, praktyce technicznej albo języku współczesnym. | D8: 1 | E8: Najsłabszy wynik w danym kryterium w tej szczególnie wyselekcjonowanej grupie. | G8: 18 | H8: =COUNTIF(Postacie!$C$3:$C$623,G8) -> 102
G9: 19 | H9: =COUNTIF(Postacie!$C$3:$C$623,G9) -> 189
G10: 20 | H10: =COUNTIF(Postacie!$C$3:$C$623,G10) -> 174
A11: Zasada | B11: Objaśnienie | D11: ="Rozkład ocen Tabela pokazuje, ile spośród "&Postacie!C1&" wpisów otrzymało ocenę 1, 2, 3, 4 lub 5 w każdym z pięciu kryteriów. Nie przedstawia sum ocen poszczególnych osób ani ich końcowego rankingu" -> Rozkład ocen Tabela pokazuje, ile spośród 621 wpisów otrzymało ocenę 1, 2, 3, 4 lub 5 w każdym z pięciu kryteriów. Nie przedstawia sum ocen poszczególnych osób ani ich końcowego rankingu
A12: Dobór postaci | B12: ="Obszerny, selektywny wybór "&Postacie!C1&" wpisów obejmujących postacie przypisane do stuleci XIV-XX. Wspólne wpisy braci liczone są jako jeden wpis katalogowy." -> Obszerny, selektywny wybór 621 wpisów obejmujących postacie przypisane do stuleci XIV-XX. Wspólne wpisy braci liczone są jako jeden wpis katalogowy. | D12: Ocena | E12: Oryginalność | F12: Znaczenie dla dziedziny | G12: Wpływ historyczny | H12: Trwałość merytoryczna | I12: Współczesne oddziaływanie
A13: Chronologia | B13: Kolejność najpierw według przypisanego stulecia: XIV, XV, XVI, XVII, XVIII, XIX, XX; następnie według roku urodzenia, a w obrębie roku alfabetycznie według pola „Nazwisko i imię”. | D13: 1 | E13: =COUNTIF(Oceny!C$4:C$624,$D13) -> 13 | F13: =COUNTIF(Oceny!D$4:D$624,$D13) -> 10 | G13: =COUNTIF(Oceny!E$4:E$624,$D13) -> 16 | H13: =COUNTIF(Oceny!F$4:F$624,$D13) -> 26 | I13: =COUNTIF(Oceny!G$4:G$624,$D13) -> 22
A14: Dorosłe życie | B14: Liczone od ukończenia 20 lat, czyli od początku 21. roku życia. Pierwszych 20 lat nie uwzględnia się przy ustalaniu stulecia. | D14: 2 | E14: =COUNTIF(Oceny!C$4:C$624,$D14) -> 69 | F14: =COUNTIF(Oceny!D$4:D$624,$D14) -> 66 | G14: =COUNTIF(Oceny!E$4:E$624,$D14) -> 72 | H14: =COUNTIF(Oceny!F$4:F$624,$D14) -> 102 | I14: =COUNTIF(Oceny!G$4:G$624,$D14) -> 133
A15: Reguła podstawowa | B15: Jeżeli co najmniej 60% dorosłego życia przypada na jedno stulecie, osoba zostaje przypisana do tego stulecia. Jeżeli na stulecie urodzenia przypada najwyżej 35%, wybiera się stulecie następne. | D15: 3 | E15: =COUNTIF(Oceny!C$4:C$624,$D15) -> 211 | F15: =COUNTIF(Oceny!D$4:D$624,$D15) -> 194 | G15: =COUNTIF(Oceny!E$4:E$624,$D15) -> 203 | H15: =COUNTIF(Oceny!F$4:F$624,$D15) -> 280 | I15: =COUNTIF(Oceny!G$4:G$624,$D15) -> 289
A16: Przypadki graniczne | B16: Dla udziału od 36% do mniej niż 60% w stuleciu urodzenia decyduje data najważniejszego dzieła lub osiągnięcia. Szczegóły podano w arkuszu „Wyjaśnienia stuleci”. | D16: 4 | E16: =COUNTIF(Oceny!C$4:C$624,$D16) -> 244 | F16: =COUNTIF(Oceny!D$4:D$624,$D16) -> 219 | G16: =COUNTIF(Oceny!E$4:E$624,$D16) -> 228 | H16: =COUNTIF(Oceny!F$4:F$624,$D16) -> 171 | I16: =COUNTIF(Oceny!G$4:G$624,$D16) -> 130
A17: Granice stuleci | B17: Stulecia liczone są historycznie: XIV = 1301-1400, XV = 1401-1500 itd. Rok kończący się na 00 należy do stulecia poprzedniego. | D17: 5 | E17: =COUNTIF(Oceny!C$4:C$624,$D17) -> 84 | F17: =COUNTIF(Oceny!D$4:D$624,$D17) -> 132 | G17: =COUNTIF(Oceny!E$4:E$624,$D17) -> 102 | H17: =COUNTIF(Oceny!F$4:F$624,$D17) -> 42 | I17: =COUNTIF(Oceny!G$4:G$624,$D17) -> 47
A18: Daty niepewne | B18: Znak ? po roku oznacza datę przybliżoną lub sporną. Łącznik po roku urodzenia oznacza osobę żyjącą według stanu sprawdzonego 11 sierpnia 2026 roku.
A19: Dziedzina główna | B19: Jedno kontrolowane hasło wskazujące dziedzinę, która najlepiej wyjaśnia najtrwalsze i najważniejsze znaczenie postaci.
A20: Poddziedzina | B20: Jedno kontrolowane hasło ze słownika właściwego dla dziedziny głównej. Nie łączy kilku nazw spójnikami ani przecinkami.
A21: Dziedziny dodatkowe | B21: Jedna lub kilka pełnych par w formacie „Dziedzina - poddziedzina”, rozdzielonych średnikami.
A22: Próg dziedziny dodatkowej | B22: Wpis wymaga łącznie: konkretnego, odrębnego osiągnięcia; uznania postaci przez opracowania danej dziedziny za rzeczywistego współtwórcę; oraz uwzględnienia tego wkładu w „Najważniejszych osiągnięciach”. Liczba dziedzin dodatkowych nie ma arbitralnego limitu.
A23: Sposób ustalania ocen | B23: Strukturę ocen i kryteria ocen cząstkowych ustalono w toku dyskusji autora z ChatGPT. Na podstawie uzgodnionych kryteriów ChatGPT przedstawiał propozycje ocen poszczególnych postaci. Autor analizował te propozycje, wprowadzał zmiany i podejmował ostateczne decyzje o przyznanych ocenach.
A24: Źródła | B24: Arkusz „Postacie” nie zawiera kolumny źródłowej. Podstawę i kontrole opisano w arkuszu „Źródła i weryfikacja”, a źródła rozstrzygnięć chronologicznych podano przy odpowiednich przypadkach.
A25: Zakres arkusza stuleci | B25: Arkusz „Wyjaśnienia stuleci” obejmuje wyłącznie osoby, których dorosłe życie przypada w zbliżonych częściach na dwa stulecia. Brak postaci w tym arkuszu oznacza, że przypisanie nie wymagało osobnego wyjaśnienia.
A26: Zakres techniki i inżynierii | B26: Dobór przedstawicieli techniki i inżynierii koncentruje się na twórcach działających od XIV wieku do około 1920-1930 roku. Późniejszych twórców uwzględnia się tylko wyjątkowo, aby nie zdominowali zbioru wielką liczbą postaci współczesnych.
A27: Klasyfikacja nadrzędna | B27: Pięć grup: nauki ścisłe; nauki humanistyczne; nauki społeczne; nauki o życiu, zdrowiu i Ziemi; technika i inżynieria. Nauki humanistyczne i społeczne pozostają rozdzielone.
A28: Wspólne wpisy braci | B28: Bracia Wright, bracia Montgolfier i bracia Lumière mają po jednym wpisie, ponieważ ich najważniejsze osiągnięcia były wspólne i powinny być liczone jako jeden wkład.
A29: Nagrody Nobla | B29: Dla zwięzłości zapis „Nobel: dziedzina (rok)” obejmuje również Nagrodę Banku Szwecji im. Alfreda Nobla w dziedzinie nauk ekonomicznych. W przypadku odmowy przyjęcia nagrody informację tę odnotowano w nawiasie.

Sheet Słownik dziedzin i poddziedzin
A1: Słownik dziedzin i poddziedzin
A2: Hasła kontrolowane używane w polach „Dziedzina główna”, „Poddziedzina” i „Dziedziny dodatkowe”. Technika i inżynieria została rozszerzona o historyczne poddziedziny urządzeń, infrastruktury, materiałów, optyki, fotografii i filmu.
A4: Dziedzina | B4: Poddziedzina | C4: Zakres
A5: Antropologia | B5: antropologia biologiczna | C5: Biologiczne zróżnicowanie i ewolucja człowieka.
A6: Antropologia | B6: antropologia ekonomiczna | C6: Produkcja, wymiana i konsumpcja w kontekście kulturowym.
A7: Antropologia | B7: antropologia filozoficzna | C7: Filozoficzne ujęcia natury, kondycji, wolności, cielesności i miejsca człowieka w świecie.
A8: Antropologia | B8: antropologia interpretatywna | C8: Interpretacja kultury jako systemu znaczeń.
A9: Antropologia | B9: antropologia kulturowa | C9: Porównawcze badanie wzorów kultury, znaczeń i sposobów życia.
A10: Antropologia | B10: antropologia religii | C10: Religie, rytuały, mity i doświadczenia sacrum w ujęciu antropologicznym.
A11: Antropologia | B11: antropologia społeczna | C11: Relacje, instytucje i organizacja społeczna w badaniach porównawczych.
A12: Antropologia | B12: antropologia strukturalna | C12: Ukryte relacje i opozycje organizujące systemy kulturowe.
A13: Antropologia | B13: antropologia symboliczna | C13: Symbole, rytuały i systemy znaczeń.
A14: Astronomia | B14: astrofizyka | C14: Fizyczna natura gwiazd, galaktyk i materii kosmicznej.
A15: Astronomia | B15: astronomia matematyczna | C15: Modele ruchu ciał niebieskich i obliczenia astronomiczne.
... A143: Technika i inżynieria | B143: urządzenia przemysłowe i mechanizacja | C143: Maszyny, obrabiarki i mechanizmy zastępujące lub wzmacniające pracę ludzką w produkcji.

Sheet Które stulecie
A1: Wyjaśnienia przypisania postaci do stuleci
A2: Arkusz obejmuje osoby, których dorosłe życie przypada w zbliżonych częściach na dwa stulecia. Jeżeli na stulecie urodzenia przypada od 36% do mniej niż 60% dorosłego życia, o przypisaniu do stulecia rozstrzyga data najważniejszego dzieła lub osiągnięcia.
A4: Nr | B4: Nr w Postaciach | C4: Nazwisko i imię | D4: Daty życia | E4: Dorosłe życie | F4: % w stuleciu urodzenia | G4: % w następnym stuleciu | H4: Stulecie przypisane | I4: Najważniejsze dzieło / osiągnięcie | J4: Rok | K4: Uzasadnienie przypisania | L4: Wikipedia | M4: Źródło niezależne | N4: Adres źródła niezależnego | O4: Co potwierdza źródło
A5: 1 | B5: 13 | C5: Ailly, Pierre d’ | D5: 1351-1420 | E5: 1371-1420 | F5: 0.59183673 | G5: 0.40816327 | H5: XV | I5: Imago mundi | J5: 1410 | K5: Najważniejszy dla tej listy wkład d’Ailly’ego to kosmografia Imago mundi, napisana w 1410 roku. Osiągnięcie należy więc do XV wieku, mimo że większość jego dorosłego życia przypada jeszcze na XIV wiek. | L5: https://en.wikipedia.org/wiki/Pierre_d%27Ailly | M5: Carleton College - Mapping the World | N5: https://www.hist231.hist.sites.carleton.edu/items/show/66 | O5: Podaje, że Imago mundi zostało napisane w 1410 roku, i opisuje jego wpływ na Kolumba.
A6: 2 | B6: 34 | C6: Nilakantha Somayaji | D6: 1444-1544 | E6: 1464-1544 | F6: 0.45 | G6: 0.55 | H6: XVI | I6: Tantrasamgraha | J6: 1501 | K6: Tantrasamgraha, najważniejsza synteza astronomiczna Nilakanthy, została ukończona w 1501 roku. Dlatego przypisanie do XVI wieku jest jednoznaczne. | L6: https://en.wikipedia.org/wiki/Nilakantha_Somayaji | M6: MacTutor History of Mathematics | N6: https://mathshistory.st-andrews.ac.uk/Biographies/Nilakantha/ | O6: Wskazuje Tantrasamgraha jako najważniejsze dzieło i datuje je na 1501 rok.
A7: 3 | B7: 35 | C7: da Vinci, Leonardo | D7: 1452-1519 | E7: 1472-1519 | F7: 0.59574468 | G7: 0.40425532 | H7: XVI | I7: Dojrzałe studia anatomiczne | J7: 1508 | K7: Dorobek Leonarda rozciąga się na oba stulecia. Dla profilu naukowo-technicznego przyjęto okres dojrzałych badań anatomicznych, szczególnie intensywnych od około 1508 roku i kontynuowanych w następnej dekadzie, dlatego wybrano XVI wiek. | L7: https://en.wikipedia.org/wiki/Leonardo_da_Vinci | M7: Royal Collection Trust - Leonardo's Study of Anatomy | N7: https://www.rct.uk/collection/stories/leonardo-in-the-royal-collection/leonardos-study-of-anatomy | O7: Dokumentuje rozwój badań anatomicznych Leonarda i prezentuje datowane karty, m.in. z 1511 roku.
A8: 4 | B8: 36 | C8: Reuchlin, Johannes | D8: 1455-1522 | E8: 1475-1522 | F8: 0.53191489 | G8: 0.46808511 | H8: XVI | I8: De rudimentis hebraicis | J8: 1506 | K8: De rudimentis hebraicis z 1506 roku było zasadniczym dziełem Reuchlina dla rozwoju chrześcijańskiej hebraistyki. Data rozstrzyga na rzecz XVI wieku. | L8: https://en.wikipedia.org/wiki/Johann_Reuchlin | M8: Center for Jewish Art, Hebrew University of Jerusalem | N8: https://cja.huji.ac.il/browser.php?id=40612&mode=set | O8: Podaje pierwsze wydanie z 1506 roku i znaczenie dzieła dla studiów hebrajskich.
A9: 5 | B9: 37 | C9: Pomponazzi, Pietro | D9: 1462-1525 | E9: 1482-1525 | F9: 0.41860465 | G9: 0.58139535 | H9: XVI | I9: De immortalitate animae | J9: 1516 | K9: Sławę Pomponazziego ugruntował traktat o nieśmiertelności duszy z 1516 roku. Jego kluczowy wkład przypada zatem na XVI wiek. | L9: https://en.wikipedia.org/wiki/Pietro_Pomponazzi | M9: Bibliotheca Philosophica Virtualis | N9: https://www.bphv.eu/en/content/tractatus-de-immortalitate-animae | O9: Wymienia Tractatus de immortalitate animae wśród bolońskich publikacji Pomponazziego i datuje go na 1516 rok.
A10: 6 | B10: 85 | C10: Bacon, Francis | D10: 1561-1626 | E10: 1581-1626 | F10: 0.42222222 | G10: 0.57777778 | H10: XVII | I10: Novum Organum | J10: 1620 | K10: Program nowej metody badania przyrody Bacon przedstawił najpełniej w Novum Organum z 1620 roku. To uzasadnia przypisanie do XVII wieku. | L10: https://en.wikipedia.org/wiki/Francis_Bacon | M10: Stanford Encyclopedia of Philosophy | N10: https://plato.stanford.edu/entries/francis-bacon/ | O10: Omawia Novum Organum jako centralną część Baconowskiej reformy metody naukowej.
A11: 7 | B11: 144 | C11: Newton, Isaac | D11: 1643-1727 | E11: 1663-1727 | F11: 0.578125 | G11: 0.421875 | H11: XVII | I11: Philosophiae Naturalis Principia Mathematica | J11: 1687 | K11: Principia z 1687 roku zawierają prawa ruchu i teorię powszechnego ciążenia, czyli rdzeń przełomowego dorobku Newtona. Przypisanie pozostaje przy XVII wieku. | L11: https://en.wikipedia.org/wiki/Isaac_Newton | M11: Cambridge Digital Library - Newton Papers | N11: https://cudl.lib.cam.ac.uk/view/MS-ROYALSOCIETY-00069/7 | O11: Opisuje rękopis Principiów i potwierdza ich wydanie pod auspicjami Royal Society w 1687 roku.
A12: 8 | B12: 152 | C12: Varignon, Pierre | D12: 1654–1722 | E12: 1674–1722 | F12: 0.54166667 | G12: 0.45833333 | H12: XVII | I12: Projet d’une nouvelle mécanique | J12: 1687 | K12: Najważniejszy dla zestawienia wkład Varignona w analityczną mechanikę i składanie sił został przedstawiony w Projet d’une nouvelle mécanique z 1687 roku. Dlatego przypisano go do XVII wieku, mimo że znaczna część dorosłego życia przypadła na XVIII. | L12: https://en.wikipedia.org/wiki/Pierre_Varignon | M12: MacTutor History of Mathematics | N12: https://mathshistory.st-andrews.ac.uk/Biographies/Varignon/ | O12: Daty życia, dzieło z 1687 roku i znaczenie dla mechaniki analitycznej
A13: 9 | B13: 155 | C13: Halley, Edmond | D13: 1656-1742 | E13: 1676-1742 | F13: 0.36363636 | G13: 0.63636364 | H13: XVIII | I13: Astronomiae cometicae synopsis | J13: 1705 | K13: Halley wykazał okresowość komety i przewidział jej powrót w pracy opublikowanej w 1705 roku. Najważniejsze osiągnięcie przypada zatem na XVIII wiek. | L13: https://en.wikipedia.org/wiki/Edmond_Halley | M13: Smithsonian Libraries | N13: https://library.si.edu/digital-library/book/synopsisofastron00hall | O13: Potwierdza pierwszą publikację Synopsis astronomii komet w Philosophical Transactions w 1705 roku.
A14: 10 | B14: 240 | C14: Volta, Alessandro | D14: 1745-1827 | E14: 1765-1827 | F14: 0.56451613 | G14: 0.43548387 | H14: XVIII | I14: Ogniwo Volty i komunikat dla Royal Society | J14: 1800 | K14: Volta ogłosił konstrukcję ogniwa w 1800 roku. Zgodnie z przyjętą numeracją rok 1800 jest ostatnim rokiem XVIII wieku, dlatego przypisanie pozostaje przy XVIII wieku. | L14: https://en.wikipedia.org/wiki/Alessandro_Volta | M14: Library of Congress | N14: https://www.loc.gov/item/64011915/ | O14: Potwierdza, że komunikat Volty o elektryczności kontaktowej ukazał się w Philosophical Transactions w 1800 roku.
A15: 11 | B15: 242 | C15: Bentham, Jeremy | D15: 1748-1832 | E15: 1768-1832 | F15: 0.5 | G15: 0.5 | H15: XVIII | I15: An Introduction to the Principles of Morals and Legislation | J15: 1789 | K15: Najważniejsza systematyczna prezentacja zasady użyteczności została po raz pierwszy opublikowana w 1789 roku. Decyduje to o przypisaniu do XVIII wieku. | L15: https://en.wikipedia.org/wiki/Jeremy_Bentham | M15: University College London - Bentham Project | N15: https://www.ucl.ac.uk/laws/introduction-principles-morals-and-legislation | O15: Podaje, że dzieło wydrukowano w 1780 roku, a po raz pierwszy opublikowano w 1789 roku.
A16: 12 | B16: 245 | C16: Goethe, Johann Wolfgang von | D16: 1749-1832 | E16: 1769-1832 | F16: 0.49206349 | G16: 0.50793651 | H16: XVIII | I16: Versuch die Metamorphose der Pflanzen zu erklären | J16: 1790 | K16: W kontekście naukowym najważniejszy jest Goethego program morfologii roślin, opublikowany w 1790 roku. Dlatego przypisanie pozostaje przy XVIII wieku. | L16: https://en.wikipedia.org/wiki/Johann_Wolfgang_von_Goethe | M16: MIT Press | N16: https://mitpress.mit.edu/9780262551021/the-metamorphosis-of-plants/ | O16: Określa Metamorphosis of Plants jako wpływowy tekst Goethego opublikowany w 1790 roku.
... A20: 16 | B20: 251 | C20: Murdoch, William | D20: 1754-1839 | E20: 1774-1839 | F20: 0.4 | G20: 0.6 | H20: XVIII | I20: Praktyczne oświetlenie gazowe | J20: 1792 | K20: Murdoch rozpoczął doświadczenia prowadzące do praktycznego oświetlenia gazowego w 1792 roku, a następnie oświetlił swój dom i biuro. Najważniejszy wkład przypada na XVIII wiek. | L20: https://en.wikipedia.org/wiki/William_Murdoch | M20: Science Museum Group | N20: https://collection.sciencemuseumgroup.org.uk/objects/co11585/diorama-showing-william-murdoch-in-his-house-at-redruth-with-gas-lighting | O20: Datuje zastosowanie oświetlenia gazowego w domu Murdocha na 1792 rok.
A21: 17 | B21: 253 | C21: Robert, Nicolas-Louis | D21: 1761-1828 | E21: 1781-1828 | F21: 0.417 | G21: 0.583 | H21: XVIII | I21: Maszyna do ciągłej produkcji papieru | J21: 1798 | K21: Najważniejszy wynalazek Robert opatentował w 1798 roku, dlatego mimo znacznej części dorosłego życia w XIX wieku przypisano go do XVIII wieku. | L21: https://en.wikipedia.org/wiki/Louis-Nicolas_Robert | M21: Bryan Bunch i Alexander Hellemans, The History of Science and Technology | O21: Potwierdza patent z 1798 roku i znaczenie maszyny papierniczej.
A22: 18 | B22: 254 | C22: Fichte, Johann Gottlieb | D22: 1762-1814 | E22: 1782-1814 | F22: 0.5625 | G22: 0.4375 | H22: XVIII | I22: Grundlage der gesamten Wissenschaftslehre | J22: 1794 | K22: Pierwsza i najbardziej wpływowa postać Wissenschaftslehre powstała w Jenie w latach 1794-1795. Dlatego Fichte zostaje przypisany do XVIII wieku. | L22: https://en.wikipedia.org/wiki/Johann_Gottlieb_Fichte | M22: Stanford Encyclopedia of Philosophy | N22: https://plato.stanford.edu/entries/johann-fichte/ | O22: Wiąże rozwinięcie systemu Wissenschaftslehre z okresem jenajskim rozpoczętym w 1794 roku.
A23: 19 | B23: 256 | C23: Lamarck, Jean-Baptiste | D23: 1744-1829 | E23: 1764-1829 | F23: 0.55384615 | G23: 0.44615385 | H23: XIX | I23: Philosophie zoologique | J23: 1809 | K23: Najpełniejszy wykład Lamarckowskiej teorii przemian organizmów ukazał się w Philosophie zoologique w 1809 roku. Dlatego właściwe jest przypisanie do XIX wieku. | L23: https://en.wikipedia.org/wiki/Jean-Baptiste_Lamarck | M23: Biodiversity Heritage Library | N23: https://www.biodiversitylibrary.org/item/105887 | O23: Udostępnia i opisuje pierwsze wydanie Philosophie zoologique z 1809 roku.
A24: 20 | B24: 259 | C24: Troughton, Edward | D24: 1753-1835 | E24: 1773-1835 | F24: 0.444 | G24: 0.556 | H24: XIX | I24: Instrumenty astronomiczne i geodezyjne | J24: 1809 | K24: Największe znaczenie miały instrumenty wykonywane i stosowane w wielkich pomiarach początku XIX wieku; przypisanie do XIX wieku. | L24: https://en.wikipedia.org/wiki/Edward_Troughton | M24: MacTutor History of Mathematics | N24: https://mathshistory.st-andrews.ac.uk/Biographies/Troughton/ | O24: Potwierdza działalność Troughtona jako konstruktora instrumentów początku XIX wieku.
A25: 21 | B25: 262 | C25: Saint-Simon, Henri de | D25: 1760-1825 | E25: 1780-1825 | F25: 0.44444444 | G25: 0.55555556 | H25: XIX | I25: Nouveau Christianisme | J25: 1825 | K25: Dorosłe życie Saint-Simona przypada na oba stulecia, lecz najważniejsze pisma i zasadnicze oddziaływanie jego teorii społeczeństwa przemysłowego należą do XIX wieku. | L25: https://en.wikipedia.org/wiki/Henri_de_Saint-Simon | M25: Encyclopaedia Britannica | N25: https://www.britannica.com/biography/Henri-de-Saint-Simon | O25: Potwierdza chronologię jego życia, dziewiętnastowieczną działalność pisarską oraz znaczenie dla rozwoju socjalizmu i nauk społecznych.
A26: 22 | B26: 264 | C26: Fulton, Robert | D26: 1765-1815 | E26: 1785-1815 | F26: 0.516 | G26: 0.484 | H26: XIX | I26: Clermont i komercyjna żegluga parowa | J26: 1807 | K26: Dorosłe życie Fultona rozkłada się niemal równo między dwa stulecia, a przełomowy rejs jego parowca odbył się w 1807 roku; przypisanie do XIX wieku. | L26: https://en.wikipedia.org/wiki/Robert_Fulton | M26: Encyclopaedia Britannica | N26: https://www.britannica.com/biography/Robert-Fulton-American-inventor | O26: Potwierdza datę i znaczenie komercyjnego parowca z 1807 roku.
A27: 23 | B27: 407 | C27: Linde, Carl von | D27: 1842-1934 | E27: 1862-1934 | F27: 0.534 | G27: 0.466 | H27: XIX | I27: Praktyczny układ chłodniczy | J27: 1876 | K27: Dorosłe życie dzieli się między dwa stulecia, natomiast zasadnicze rozwiązania chłodnicze Linde powstały w latach siedemdziesiątych XIX wieku; przypisanie do XIX wieku. | L27: https://en.wikipedia.org/wiki/Carl_von_Linde | M27: Linde - historia przedsiębiorstwa | N27: https://www.linde.com/about-linde/history | O27: Potwierdza rozwój chłodnictwa przez Linde w XIX wieku.
A28: 24 | B28: 409 | C28: Benz, Carl | D28: 1844-1929 | E28: 1864-1929 | F28: 0.561 | G28: 0.439 | H28: XIX | I28: Patent-Motorwagen | J28: 1886 | K28: Udział dorosłego życia w XIX wieku nie osiąga 60%, lecz najważniejszy wynalazek Benz opatentował i zademonstrował w latach 1885-1886; przypisanie do XIX wieku. | L28: https://en.wikipedia.org/wiki/Carl_Benz | M28: Mercedes-Benz - historia przedsiębiorstwa | N28: https://group.mercedes-benz.com/company/tradition/company-history/1885-1886.html | O28: Potwierdza daty Patent-Motorwagen z lat 1885-1886.
A29: 25 | B29: 416 | C29: Edison, Thomas | D29: 1847-1931 | E29: 1867-1931 | F29: 0.531 | G29: 0.469 | H29: XIX | I29: Fonograf i system oświetlenia elektrycznego | J29: 1879 | K29: Najważniejsze wynalazki Edisona, fonograf i praktyczny system oświetlenia elektrycznego, powstały w latach siedemdziesiątych XIX wieku. | L29: https://en.wikipedia.org/wiki/Thomas_Edison | M29: Smithsonian National Museum of American History | N29: https://americanhistory.si.edu/explore/stories/thomas-edison | O29: Omawia fonograf i rozwój oświetlenia elektrycznego w latach siedemdziesiątych XIX wieku.
A30: 26 | B30: 417 | C30: Frege, Gottlob | D30: 1848-1925 | E30: 1868-1925 | F30: 0.56140351 | G30: 0.43859649 | H30: XIX | I30: Begriffsschrift | J30: 1879 | K30: Begriffsschrift z 1879 roku wprowadziła nowoczesny rachunek logiczny i jest podstawą historycznego znaczenia Fregego. Przypisanie pozostaje przy XIX wieku. | L30: https://en.wikipedia.org/wiki/Gottlob_Frege | M30: Internet Encyclopedia of Philosophy | N30: https://iep.utm.edu/frege/ | O30: Omawia pierwszy system logiczny Fregego przedstawiony w Begriffsschrift z 1879 roku.
A31: 27 | B31: 419 | C31: Klein, Felix | D31: 1849-1925 | E31: 1869-1925 | F31: 0.571 | G31: 0.429 | H31: XIX | I31: Program erlangeński | J31: 1872 | K31: Najważniejszy program badawczy Kleina powstał w 1872 roku, dlatego przypadek graniczny przypisano do XIX wieku. | L31: https://en.wikipedia.org/wiki/Felix_Klein | M31: MacTutor History of Mathematics | N31: https://mathshistory.st-andrews.ac.uk/Biographies/Klein/ | O31: Potwierdza ogłoszenie programu erlangeńskiego w 1872 roku.
A32: 28 | B32: 422 | C32: Schott, Otto | D32: 1851-1935 | E32: 1871-1935 | F32: 0.462 | G32: 0.538 | H32: XIX | I32: Laboratorium szkła technicznego w Jenie | J32: 1884 | K32: Najważniejsze przełomy w systematycznym wytwarzaniu szkła optycznego nastąpiły w latach osiemdziesiątych XIX wieku; przypisanie do XIX wieku. | L32: https://en.wikipedia.org/wiki/Otto_Schott | M32: SCHOTT - historia przedsiębiorstwa | N32: https://www.schott-pharma.com/en/about-us/history | O32: Potwierdza powstanie laboratorium szkła technicznego w Jenie.
A33: 29 | B33: 423 | C33: Wieser, Friedrich von | D33: 1851-1926 | E33: 1871-1926 | F33: 0.52727273 | G33: 0.47272727 | H33: XIX | I33: Der natürliche Wert | J33: 1889 | K33: Dorosłe życie Wiesera przypada w znacznych częściach na XIX i XX wiek, lecz teoria imputacji i kosztu alternatywnego została rozwinięta w Der natürliche Wert z 1889 roku. Dlatego przypisano go do XIX wieku. | L33: https://en.wikipedia.org/wiki/Friedrich_von_Wieser | M33: European Center of Austrian Economics Foundation | N33: https://ecaef.org/friedrich-freiherr-von-wieser-1851-1926/ | O33: Potwierdza datę publikacji Der natürliche Wert, teorię imputacji i kosztu alternatywnego oraz rozwój szkoły austriackiej.
... A52: 48 | B52: 469 | C52: Leavitt, Henrietta Swan | D52: 1868-1921 | E52: 1888-1921 | F52: 0.394 | G52: 0.606 | H52: XX | I52: Zależność okres-jasność cefeid | J52: 1912 | K52: Kluczowe sformułowanie zależności okres-jasność cefeid pochodzi z 1912 roku, dlatego postać przypisano do XX wieku. | L52: https://en.wikipedia.org/wiki/Henrietta_Swan_Leavitt | M52: NASA Science | N52: https://science.nasa.gov/people/henrietta-swan-leavitt/ | O52: Potwierdza znaczenie zależności okres-jasność oraz jej ogłoszenie na początku XX wieku.

Sheet Źródła i weryfikacja
A1: Źródła i weryfikacja
A3: Zakres | B3: Wynik / sposób wykorzystania | C3: Źródło lub podstawa
A4: Charakter zestawienia | B4: Zestawienie stanowi obszerny, ale selektywny wybór postaci przeznaczony przede wszystkim dla niespecjalistów. Nie jest pełnym rejestrem uczonych, filozofów, inżynierów i wynalazców ani proporcjonalną reprezentacją wszystkich dziedzin. | C4: Założenie autorskie
A5: Rola autora | B5: Autor zainicjował pracę nad skoroszytem. Ustalał liczbę przedstawianych postaci, decydował, jakie dziedziny i poddziedziny należy uwzględnić, oraz określał proporcje między nimi. Wskazywał również konkretne osoby, które należało uwzględnić albo usunąć. Wszystkie ostateczne decyzje dotyczące składu i profilu zestawienia należały do autora. | C5: Założenia i decyzje autorskie
A6: Sposób doboru | B6: W przygotowaniu zestawienia wykorzystano ChatGPT jako narzędzie pomocnicze. Model przedstawiał kandydatury, propozycje klasyfikacji i możliwe uzupełnienia. Autor oceniał te propozycje i podejmował decyzje o przyjęciu albo odrzuceniu poszczególnych postaci lub przedstawiał alternatywne propozycje, które model miał dalej opracować. | C6: Procedura przygotowania zestawienia
A7: Profil zestawienia | B7: Reprezentacja poszczególnych dziedzin jest świadomie nierównomierna. Filozofia została przedstawiona szerzej, ponieważ autor uznał ją za szczególnie ważną dla realizowanego projektu z dziedziny antropologii. Liczebności dziedzin nie należy zatem interpretować jako miary ich obiektywnego znaczenia. | C7: Założenie autorskie
A8: Filozofia XX wieku | B8: Filozofia XX wieku została przedstawiona w sposób ograniczony w stosunku do jej rozległości i wewnętrznego zróżnicowania, ponieważ jej systematyczne opracowanie nie było priorytetem projektu. Uwzględniono wybrane postacie ważne dla ogólnej historii myśli zachodniej i problematyki projektu. | C8: Założenie autorskie
A9: Trzy opracowania historii nauki i techniki | B9: Na podstawie trzech syntetycznych opracowań historii nauki i techniki włączono do zestawienia 96 postaci. | C9: 1. Bryan Bunch with Alexander Hellemans, The History of Science and Technology: A Browser’s Guide to the Great Discoveries, Inventions, and the People Who Made Them, from the Dawn of Time to Today, Boston - New York: Houghton Mifflin Company, 2004. ———————— 2. David Deming, Science and Technology in World History, vol. 4: The Origin of Chemistry, the Principle of Progress, the Enlightenment and the Industrial Revolution, Jefferson, NC: McFarland & Company, 2016. ———————— 3. James E. McClellan III and Harold Dorn, Science and Technology in World History: An Introduction, 2nd ed., Baltimore: Johns Hopkins University Press, 2006.
A10: Weryfikacja danych | B10: Nazwiska, daty życia, najważniejsze osiągnięcia oraz proponowane klasyfikacje sprawdzano w encyklopediach biograficznych, specjalistycznych bazach danych, opracowaniach historycznych i materiałach instytucji naukowych. Przypadki niejednoznaczne analizowano osobno. | C10: Wykorzystane źródła referencyjne i instytucjonalne
A11: Wykorzystanie Wikipedii | B11: Wikipedia była wykorzystywana pomocniczo do kontroli pisowni nazwisk, dat oraz podstawowych informacji biograficznych. Nie stanowiła podstawy doboru postaci ani jedynego źródła rozstrzygnięć w przypadkach spornych. | C11: https://en.wikipedia.org/
A12: Kryterium przypisania do stulecia | B12: Postacie przypisywano do stuleci przede wszystkim na podstawie okresu ich dojrzałej działalności, a nie wyłącznie roku urodzenia. Przypadki graniczne zostały wyjaśnione osobno. | C12: Zob. arkusz „Wyjaśnienia stuleci”
A13: Wilhelm Ockham | B13: Wilhelm Ockham, urodzony około 1287 roku, został przypisany do XIV wieku, ponieważ jego dorosłe życie i zasadnicza działalność intelektualna przypadają na to stulecie. Uwzględniono go jako jednego z najwybitniejszych i najbardziej wpływowych filozofów średniowiecza. | C13: https://plato.stanford.edu/entries/ockham/
A14: Technika i inżynieria | B14: Dział obejmuje 122 wpisy o dominującym wkładzie inżynierskim i technicznym. Wpisy obejmują m.in. budownictwo, transport, napęd, energetykę, górnictwo, metalurgię, aparaturę, komunikację, automatyzację oraz technologię chemiczną. | C14: Dobór 122 przedstawicieli techniki i inżynierii oparto na propozycjach autora i ChatGPT oraz analizie znaczenia poszczególnych osiągnięć. Wykorzystano trzy opracowania historii nauki i techniki (Bunch, Deming, McClellan patrz wyżej). Dane biograficzne i opisy wkładu sprawdzano następnie w różnych źródłach: encyklopediach, materiałach muzeów, stowarzyszeń zawodowych i instytucji naukowych oraz pomocniczo w Wikipedii. ASME (American Society of Mechanical Engineers), ETHW (Engineering and Technology History Wiki) i Science Museum Group są przykładami tych źródeł, a nie ich pełnym wykazem.
... A20: Uzupełnienie: genealogia filozofii mechanistycznej | B20: Dodano Richarda z Wallingford, Giovanniego de’ Dondi i Isaaca Beeckmana; La Mettrie był już w spisie. Opisy uzupełniono o miejsce postaci w genealogii lub rozwoju mechanicyzmu. Wyszukiwanie rdzenia „mechanist” w kolumnie „Najważniejsze osiągnięcia” wskazuje dokładnie 14 wpisów; przy Wallingfordzie i Dondim zaznaczono, że nie byli twórcami filozofii mechanistycznej, natomiast ich zegary tworzyły ważne materialne doświadczenie dla późniejszej metaforyki. | C20: Materiał roboczy: genealogia filozofii mechanistycznej.docx. Weryfikacja: Stanford Encyclopedia of Philosophy - Buridan, Oresme, Galileo, Kepler, Mersenne, Descartes’s Physics, Gassendi, Hobbes i Boyle; Whipple Museum - Richard of Wallingford; Museo Nazionale Scienza e Tecnologia Leonardo da Vinci - astrarium Giovanniego de’ Dondi.

Sheet Statystyka dziedzin
A1: ="Statystyka dziedzin i poddziedzin - "&Postacie!C1&" wpisów" -> Statystyka dziedzin i poddziedzin - 621 wpisów
A3: Grupa nadrzędna | B3: Liczba | C3: Udział | E3: Dziedzina | F3: Grupa nadrzędna | G3: Liczba | I3: Dziedzina | J3: Poddziedzina | K3: Liczba
A4: Nauki ścisłe | B4: =SUMIF($F$4:$F$21,A4,$G$4:$G$21) -> 166 | C4: =B4/$B$9 -> 0.26731079 | E4: Astronomia | F4: Nauki ścisłe | G4: =COUNTIF(Postacie!$E$3:$E$623,E4) -> 28 | I4: Antropologia | J4: antropologia interpretatywna | K4: =COUNTIFS(Postacie!$E$3:$E$623,I4,Postacie!$F$3:$F$623,J4) -> 1
A5: Nauki humanistyczne | B5: =SUMIF($F$4:$F$21,A5,$G$4:$G$21) -> 157 | C5: =B5/$B$9 -> 0.25281804 | E5: Chemia | F5: Nauki ścisłe | G5: =COUNTIF(Postacie!$E$3:$E$623,E5) -> 21 | I5: Antropologia | J5: antropologia kulturowa | K5: =COUNTIFS(Postacie!$E$3:$E$623,I5,Postacie!$F$3:$F$623,J5) -> 5
A6: Nauki społeczne | B6: =SUMIF($F$4:$F$21,A6,$G$4:$G$21) -> 71 | C6: =B6/$B$9 -> 0.11433172 | E6: Fizyka | F6: Nauki ścisłe | G6: =COUNTIF(Postacie!$E$3:$E$623,E6) -> 58 | I6: Antropologia | J6: antropologia religii | K6: =COUNTIFS(Postacie!$E$3:$E$623,I6,Postacie!$F$3:$F$623,J6) -> 2
A7: Nauki o życiu, zdrowiu i Ziemi | B7: =SUMIF($F$4:$F$21,A7,$G$4:$G$21) -> 105 | C7: =B7/$B$9 -> 0.16908213 | E7: Informatyka | F7: Nauki ścisłe | G7: =COUNTIF(Postacie!$E$3:$E$623,E7) -> 4 | I7: Antropologia | J7: antropologia społeczna | K7: =COUNTIFS(Postacie!$E$3:$E$623,I7,Postacie!$F$3:$F$623,J7) -> 5
A8: Technika i inżynieria | B8: =SUMIF($F$4:$F$21,A8,$G$4:$G$21) -> 122 | C8: =B8/$B$9 -> 0.19645733 | E8: Matematyka | F8: Nauki ścisłe | G8: =COUNTIF(Postacie!$E$3:$E$623,E8) -> 55 | I8: Antropologia | J8: antropologia strukturalna | K8: =COUNTIFS(Postacie!$E$3:$E$623,I8,Postacie!$F$3:$F$623,J8) -> 1
A9: Razem | B9: =SUM(B4:B8) -> 621 | C9: =SUM(C4:C8) -> 1 | E9: Filologia i krytyka tekstu | F9: Nauki humanistyczne | G9: =COUNTIF(Postacie!$E$3:$E$623,E9) -> 15 | I9: Antropologia | J9: antropologia symboliczna | K9: =COUNTIFS(Postacie!$E$3:$E$623,I9,Postacie!$F$3:$F$623,J9) -> 2
E10: Filozofia | F10: Nauki humanistyczne | G10: =COUNTIF(Postacie!$E$3:$E$623,E10) -> 107 | I10: Astronomia | J10: astrofizyka | K10: =COUNTIFS(Postacie!$E$3:$E$623,I10,Postacie!$F$3:$F$623,J10) -> 5
E11: Historia | F11: Nauki humanistyczne | G11: =COUNTIF(Postacie!$E$3:$E$623,E11) -> 22 | I11: Astronomia | J11: astronomia matematyczna | K11: =COUNTIFS(Postacie!$E$3:$E$623,I11,Postacie!$F$3:$F$623,J11) -> 7
A12: Kontrola | B12: Wynik | E12: Humanistyka | F12: Nauki humanistyczne | G12: =COUNTIF(Postacie!$E$3:$E$623,E12) -> 8 | I12: Astronomia | J12: astronomia obserwacyjna | K12: =COUNTIFS(Postacie!$E$3:$E$623,I12,Postacie!$F$3:$F$623,J12) -> 14
A13: Liczba wpisów w Postaciach | B13: =COUNTA(Postacie!$A$3:$A$623) -> 621 | E13: Językoznawstwo | F13: Nauki humanistyczne | G13: =COUNTIF(Postacie!$E$3:$E$623,E13) -> 5 | I13: Astronomia | J13: kosmologia | K13: =COUNTIFS(Postacie!$E$3:$E$623,I13,Postacie!$F$3:$F$623,J13) -> 2
A14: Liczba wpisów z nazwiskiem Siemens | B14: =COUNTIF(Postacie!$D$3:$D$623,"Siemens, Werner von")+COUNTIF(Postacie!$D$3:$D$623,"Siemens, Carl Wilhelm") -> 2 | E14: Antropologia | F14: Nauki społeczne | G14: =COUNTIF(Postacie!$E$3:$E$623,E14) -> 16 | I14: Biologia | J14: biologia ewolucyjna | K14: =COUNTIFS(Postacie!$E$3:$E$623,I14,Postacie!$F$3:$F$623,J14) -> 5
A15: Wspólne wpisy braci | B15: =COUNTIF(Postacie!$D$3:$D$623,"Lumière, Auguste i Louis")+COUNTIF(Postacie!$D$3:$D$623,"Montgolfier, Joseph-Michel i Jacques-Étienne")+COUNTIF(Postacie!$D$3:$D$623,"Wright, Wilbur i Orville") -> 3 | E15: Ekonomia | F15: Nauki społeczne | G15: =COUNTIF(Postacie!$E$3:$E$623,E15) -> 27 | I15: Biologia | J15: biologia komórkowa i molekularna | K15: =COUNTIFS(Postacie!$E$3:$E$623,I15,Postacie!$F$3:$F$623,J15) -> 6
E16: Nauki społeczne | F16: Nauki społeczne | G16: =COUNTIF(Postacie!$E$3:$E$623,E16) -> 16 | I16: Biologia | J16: botanika | K16: =COUNTIFS(Postacie!$E$3:$E$623,I16,Postacie!$F$3:$F$623,J16) -> 7
E17: Psychologia | F17: Nauki społeczne | G17: =COUNTIF(Postacie!$E$3:$E$623,E17) -> 12 | I17: Biologia | J17: ekologia | K17: =COUNTIFS(Postacie!$E$3:$E$623,I17,Postacie!$F$3:$F$623,J17) -> 1
E18: Biologia | F18: Nauki o życiu, zdrowiu i Ziemi | G18: =COUNTIF(Postacie!$E$3:$E$623,E18) -> 43 | I18: Biologia | J18: etologia | K18: =COUNTIFS(Postacie!$E$3:$E$623,I18,Postacie!$F$3:$F$623,J18) -> 2
E19: Medycyna | F19: Nauki o życiu, zdrowiu i Ziemi | G19: =COUNTIF(Postacie!$E$3:$E$623,E19) -> 32 | I19: Biologia | J19: fizjologia | K19: =COUNTIFS(Postacie!$E$3:$E$623,I19,Postacie!$F$3:$F$623,J19) -> 1
E20: Nauki o Ziemi i geografia | F20: Nauki o życiu, zdrowiu i Ziemi | G20: =COUNTIF(Postacie!$E$3:$E$623,E20) -> 30 | I20: Biologia | J20: genetyka | K20: =COUNTIFS(Postacie!$E$3:$E$623,I20,Postacie!$F$3:$F$623,J20) -> 9
E21: Technika i inżynieria | F21: Technika i inżynieria | G21: =COUNTIF(Postacie!$E$3:$E$623,E21) -> 122 | I21: Biologia | J21: mikrobiologia | K21: =COUNTIFS(Postacie!$E$3:$E$623,I21,Postacie!$F$3:$F$623,J21) -> 1
E22: Razem | G22: =SUM(G4:G21) -> 621 | I22: Biologia | J22: systematyka i taksonomia | K22: =COUNTIFS(Postacie!$E$3:$E$623,I22,Postacie!$F$3:$F$623,J22) -> 2
I23: Biologia | J23: zoologia | K23: =COUNTIFS(Postacie!$E$3:$E$623,I23,Postacie!$F$3:$F$623,J23) -> 9
I24: Chemia | J24: chemia analityczna | K24: =COUNTIFS(Postacie!$E$3:$E$623,I24,Postacie!$F$3:$F$623,J24) -> 1
I25: Chemia | J25: chemia fizyczna | K25: =COUNTIFS(Postacie!$E$3:$E$623,I25,Postacie!$F$3:$F$623,J25) -> 1
I26: Chemia | J26: chemia ogólna i nieorganiczna | K26: =COUNTIFS(Postacie!$E$3:$E$623,I26,Postacie!$F$3:$F$623,J26) -> 15
I27: Chemia | J27: chemia organiczna | K27: =COUNTIFS(Postacie!$E$3:$E$623,I27,Postacie!$F$3:$F$623,J27) -> 3
I28: Chemia | J28: chemia przemysłowa | K28: =COUNTIFS(Postacie!$E$3:$E$623,I28,Postacie!$F$3:$F$623,J28) -> 1
I29: Ekonomia | J29: ekonomia instytucjonalna | K29: =COUNTIFS(Postacie!$E$3:$E$623,I29,Postacie!$F$3:$F$623,J29) -> 4
I30: Ekonomia | J30: ekonomia matematyczna i ilościowa | K30: =COUNTIFS(Postacie!$E$3:$E$623,I30,Postacie!$F$3:$F$623,J30) -> 3
I31: Ekonomia | J31: ekonomia polityczna | K31: =COUNTIFS(Postacie!$E$3:$E$623,I31,Postacie!$F$3:$F$623,J31) -> 9
I32: Ekonomia | J32: ekonomia rozwoju | K32: =COUNTIFS(Postacie!$E$3:$E$623,I32,Postacie!$F$3:$F$623,J32) -> 2
I33: Ekonomia | J33: historia gospodarcza | K33: =COUNTIFS(Postacie!$E$3:$E$623,I33,Postacie!$F$3:$F$623,J33) -> 4
I34: Ekonomia | J34: makroekonomia | K34: =COUNTIFS(Postacie!$E$3:$E$623,I34,Postacie!$F$3:$F$623,J34) -> 4
... I128: Technika i inżynieria | J128: urządzenia przemysłowe i mechanizacja | K128: =COUNTIFS(Postacie!$E$3:$E$623,I128,Postacie!$F$3:$F$623,J128) -> 18
I129: Razem | K129: =COUNTIFS(Postacie!$E$3:$E$623,I129,Postacie!$F$3:$F$623,J129) -> 0
